BEGIN:VCALENDAR
VERSION:2.0
PRODID:SchoolNow
CALSCALE:GREGORIAN
BEGIN:VEVENT
UID:a45da72a-aa69-11ee-b858-0af144b7bb6d
DTSTAMP:20251216T154218Z
SUMMARY:Board Meeting
URL;VALUE=URI:https://www.coshoctoncareers.org/event-calendars/community-ca
 lendar/calendar/5098628/board-meeting
DTSTART:20250821T113000Z
DTEND:20250821T123000Z
END:VEVENT
END:VCALENDAR
