BEGIN:VCALENDAR
VERSION:2.0
PRODID:SchoolNow
CALSCALE:GREGORIAN
BEGIN:VEVENT
UID:0ce089c2-b62a-11ee-a3fd-0a58a9feac02
DTSTAMP:20251216T154218Z
SUMMARY:Board Meeting
URL;VALUE=URI:https://www.coshoctoncareers.org/event-calendars/community-ca
 lendar/calendar/5174096/board-meeting
DTSTART:20250918T113000Z
DTEND:20250918T123000Z
END:VEVENT
END:VCALENDAR
