BEGIN:VCALENDAR
VERSION:2.0
PRODID:SchoolNow
CALSCALE:GREGORIAN
BEGIN:VEVENT
UID:b4ebeea2-e6f6-11ee-b21b-0245559f137d
DTSTAMP:20251216T154218Z
SUMMARY:Board Meeting
URL;VALUE=URI:https://www.coshoctoncareers.org/event-calendars/community-ca
 lendar/calendar/5590769/board-meeting
DTSTART:20251120T123000Z
DTEND:20251120T133000Z
END:VEVENT
END:VCALENDAR
