BEGIN:VCALENDAR
VERSION:2.0
PRODID:SchoolNow
CALSCALE:GREGORIAN
BEGIN:VEVENT
UID:dc892a82-195b-11ef-b20b-025f9cbb9cd5
DTSTAMP:20251216T154218Z
SUMMARY:Board Meeting
URL;VALUE=URI:https://www.coshoctoncareers.org/event-calendars/community-ca
 lendar/calendar/6018256/board-meeting
DTSTART:20260115T123000Z
DTEND:20260115T133000Z
END:VEVENT
END:VCALENDAR
