BEGIN:VCALENDAR
VERSION:2.0
PRODID:SchoolNow
CALSCALE:GREGORIAN
BEGIN:VEVENT
UID:3563c04c-54e2-11ef-8955-0a58a9feac02
DTSTAMP:20251216T154218Z
SUMMARY:Board Meeting
URL;VALUE=URI:https://www.coshoctoncareers.org/event-calendars/community-ca
 lendar/calendar/6367170/board-meeting
DTSTART:20260219T123000Z
DTEND:20260219T133000Z
END:VEVENT
END:VCALENDAR
