BEGIN:VCALENDAR
VERSION:2.0
PRODID:SchoolNow
CALSCALE:GREGORIAN
BEGIN:VEVENT
UID:65ad09a2-6405-11ef-9772-0a58a9feac02
DTSTAMP:20251216T154218Z
SUMMARY:Board Meeting
URL;VALUE=URI:https://www.coshoctoncareers.org/event-calendars/community-ca
 lendar/calendar/6464496/board-meeting
DTSTART:20260416T113000Z
DTEND:20260416T123000Z
END:VEVENT
END:VCALENDAR
