BEGIN:VCALENDAR
VERSION:2.0
PRODID:SchoolNow
CALSCALE:GREGORIAN
BEGIN:VEVENT
UID:598c1750-d429-11ef-a043-0affe2bed6c5
DTSTAMP:20251216T154218Z
SUMMARY:Board Meeting
URL;VALUE=URI:https://www.coshoctoncareers.org/event-calendars/community-ca
 lendar/calendar/7325754/board-meeting
DTSTART:20260820T113000Z
DTEND:20260820T123000Z
END:VEVENT
END:VCALENDAR
