BEGIN:VCALENDAR
VERSION:2.0
PRODID:SchoolNow
CALSCALE:GREGORIAN
BEGIN:VEVENT
UID:0cf11946-ee0e-11ef-8bae-0a58a9feac02
DTSTAMP:20251216T154218Z
SUMMARY:Board Meeting
URL;VALUE=URI:https://www.coshoctoncareers.org/event-calendars/community-ca
 lendar/calendar/7492922/board-meeting
DTSTART:20261015T113000Z
DTEND:20261015T123000Z
END:VEVENT
END:VCALENDAR
