BEGIN:VCALENDAR
VERSION:2.0
PRODID:SchoolNow
CALSCALE:GREGORIAN
BEGIN:VEVENT
UID:26831d52-3cbd-11f0-9af4-0a58a9feac02
DTSTAMP:20251216T154218Z
SUMMARY:Board Meeting
URL;VALUE=URI:https://www.coshoctoncareers.org/event-calendars/community-ca
 lendar/calendar/8221444/board-meeting
DTSTART:20261119T123000Z
DTEND:20261119T133000Z
END:VEVENT
END:VCALENDAR
