BEGIN:VCALENDAR
VERSION:2.0
PRODID:SchoolNow
CALSCALE:GREGORIAN
BEGIN:VEVENT
UID:26831e92-3cbd-11f0-b883-0a58a9feac02
DTSTAMP:20251216T154218Z
SUMMARY:Board Meeting
URL;VALUE=URI:https://www.coshoctoncareers.org/event-calendars/community-ca
 lendar/calendar/8221445/board-meeting
DTSTART:20261217T123000Z
DTEND:20261217T133000Z
END:VEVENT
END:VCALENDAR
