BEGIN:VCALENDAR
VERSION:2.0
PRODID:SchoolNow
CALSCALE:GREGORIAN
BEGIN:VEVENT
UID:26831faa-3cbd-11f0-9a75-0a58a9feac02
DTSTAMP:20251216T154218Z
SUMMARY:Board Meeting
URL;VALUE=URI:https://www.coshoctoncareers.org/event-calendars/community-ca
 lendar/calendar/8221446/board-meeting
DTSTART:20270121T123000Z
DTEND:20270121T133000Z
END:VEVENT
END:VCALENDAR
