BEGIN:VCALENDAR
VERSION:2.0
PRODID:SchoolNow
CALSCALE:GREGORIAN
BEGIN:VEVENT
UID:576790ae-7482-11f0-9d04-0a58a9feac02
DTSTAMP:20251216T154218Z
SUMMARY:Financial Aid Night / Coshocton Cares
LOCATION:Commons
URL;VALUE=URI:https://www.coshoctoncareers.org/event-calendars/community-ca
 lendar/calendar/8483320/financial-aid-night-coshocton-cares
DTSTART:20251021T223000Z
DTEND:20251021T233000Z
END:VEVENT
END:VCALENDAR
