BEGIN:VCALENDAR
VERSION:2.0
PRODID:SchoolNow
CALSCALE:GREGORIAN
BEGIN:VEVENT
UID:576795cc-7482-11f0-92bb-0a58a9feac02
DTSTAMP:20251216T154218Z
SUMMARY:Board Meeting
URL;VALUE=URI:https://www.coshoctoncareers.org/event-calendars/community-ca
 lendar/calendar/8483321/board-meeting
DTSTART:20270218T123000Z
DTEND:20270218T133000Z
END:VEVENT
END:VCALENDAR
