BEGIN:VCALENDAR
VERSION:2.0
PRODID:SchoolNow
CALSCALE:GREGORIAN
BEGIN:VEVENT
UID:365d6b18-777f-11f0-a01c-0e5541bca3ff
DTSTAMP:20251216T154218Z
SUMMARY:NEW Student Orientation
URL;VALUE=URI:https://www.coshoctoncareers.org/event-calendars/community-ca
 lendar/calendar/8493896/new-student-orientation
DTSTART:20250820T210000Z
DTEND:20250820T230000Z
END:VEVENT
END:VCALENDAR
