BEGIN:VCALENDAR
VERSION:2.0
PRODID:SchoolNow
CALSCALE:GREGORIAN
BEGIN:VEVENT
UID:37e1725c-8906-11f0-99d3-0a58a9feac02
DTSTAMP:20251216T154218Z
SUMMARY:Meet the Candidates
LOCATION:Commons
URL;VALUE=URI:https://www.coshoctoncareers.org/event-calendars/community-ca
 lendar/calendar/8575932/meet-the-candidates
DTSTART:20251008T223000Z
DTEND:20251009T000000Z
END:VEVENT
END:VCALENDAR
