BEGIN:VCALENDAR
VERSION:2.0
PRODID:SchoolNow
CALSCALE:GREGORIAN
BEGIN:VEVENT
UID:7872f70c-97c3-11f0-b9c3-0e2ac430c623
DTSTAMP:20251216T154218Z
SUMMARY:Board Meeting
URL;VALUE=URI:https://www.coshoctoncareers.org/event-calendars/community-ca
 lendar/calendar/8652260/board-meeting
DTSTART:20270520T113000Z
DTEND:20270520T123000Z
END:VEVENT
END:VCALENDAR
