BEGIN:VCALENDAR
VERSION:2.0
PRODID:SchoolNow
CALSCALE:GREGORIAN
BEGIN:VEVENT
UID:dd5293ea-a3b6-11f0-af85-0239abda656f
DTSTAMP:20251216T154218Z
SUMMARY:BPA Region 5 Competitive Events
LOCATION:Classrooms\, Commons and Cafeteria
URL;VALUE=URI:https://www.coshoctoncareers.org/event-calendars/community-ca
 lendar/calendar/8703120/bpa-region-5-competitive-events
DTSTART:20251210T191800Z
DTEND:20251211T010000Z
END:VEVENT
END:VCALENDAR
