BEGIN:VCALENDAR
VERSION:2.0
PRODID:SchoolNow
CALSCALE:GREGORIAN
BEGIN:VEVENT
UID:dd529a48-a3b6-11f0-a2fb-0239abda656f
DTSTAMP:20251216T154218Z
SUMMARY:Coshocton United ~ Meet the Candidate
LOCATION:Commons and Cafeteria
URL;VALUE=URI:https://www.coshoctoncareers.org/event-calendars/community-ca
 lendar/calendar/8703121/coshocton-united-meet-the-candidate
DTSTART:20251026T170000Z
DTEND:20251026T210000Z
END:VEVENT
END:VCALENDAR
