BEGIN:VCALENDAR
VERSION:2.0
PRODID:SchoolNow
CALSCALE:GREGORIAN
BEGIN:VEVENT
UID:d22739f4-a482-11f0-a7b5-0a58a9feac02
DTSTAMP:20251216T154218Z
SUMMARY:Ridgewood Golf Boosters Banquet
LOCATION:Commons and Cafeteria
URL;VALUE=URI:https://www.coshoctoncareers.org/event-calendars/community-ca
 lendar/calendar/8706303/ridgewood-golf-boosters-banquet
DTSTART:20251103T233000Z
DTEND:20251104T010000Z
END:VEVENT
END:VCALENDAR
