BEGIN:VCALENDAR
VERSION:2.0
PRODID:SchoolNow
CALSCALE:GREGORIAN
BEGIN:VEVENT
UID:94691c80-b4f0-11f0-a528-0a58a9feac02
DTSTAMP:20251216T154218Z
SUMMARY:Coshocton Train Show
LOCATION:Commons and Cafeteria
URL;VALUE=URI:https://www.coshoctoncareers.org/event-calendars/community-ca
 lendar/calendar/8759490/coshocton-train-show
DTSTART:20261017T140000Z
DTEND:20261017T190000Z
END:VEVENT
END:VCALENDAR
