BEGIN:VCALENDAR
VERSION:2.0
PRODID:SchoolNow
CALSCALE:GREGORIAN
BEGIN:VEVENT
UID:fa5f63d6-c248-11f0-b73e-0affd4080a3f
DTSTAMP:20251216T154218Z
SUMMARY:Board Meeting
URL;VALUE=URI:https://www.coshoctoncareers.org/event-calendars/community-ca
 lendar/calendar/8797209/board-meeting
DTSTART:20270715T113000Z
DTEND:20270715T123000Z
END:VEVENT
END:VCALENDAR
